BEGIN:VCALENDAR
VERSION:2.0
PRODID:-//wp-events-plugin.com//7.2.3.1//EN
TZID:Europe/Berlin
X-WR-TIMEZONE:Europe/Berlin
BEGIN:VEVENT
UID:1@2026.break-in.de
DTSTART;TZID=Europe/Berlin:20260515T093000
DTEND;TZID=Europe/Berlin:20260515T220000
DTSTAMP:20260125T135352Z
URL:https://2026.break-in.de/events/sommerturnier-pool-und-snooker-2026/
SUMMARY:Sommerturnier Pool und Snooker 2026
DESCRIPTION:Bitte tragt eure Daten für die Anmeldung in das Formular ein. 
 Die Mailadresse ist für die Buchungsbestätigung notwendig!\nDas Startgel
 d überweist ihr bitte an die untenstehende Bankverbindung. Erst nach Zahl
 ungseingang wird die Teilnahme verbindlich und euch anschließend per Mail
  bestätigt.\n\nFIRST PAY = FIRST PLAY\nBei Überbuchung werdet ihr automa
 tisch auf die Warteliste gesetzt.\nBei Nichtteilnahme wird das Startgeld (
 nach Turnierende) auf euer Bankkonto zurücküberwiesen.\n\nIhr könnt auc
 h gleich die Verpflegungspauschale bestellen und überweisen\, damit ihr d
 iese nicht extra vor Ort bezahlen müsst.\n\nEmpfänger:\n1. Billard Club 
 Schwerin e.V.\nIBAN: DE58 1405 2000 1711 4913 70\nBIC:  NOLADE21LWL\nVerw
 endungszweck: "Vorname Name" + "Snooker" oder "Pool"
ATTACH;FMTTYPE=image/jpeg:https://2026.break-in.de/wp-content/uploads/2025
 /12/Weihnachtsturnier-2025.png
LOCATION:Break In 1. BC Schwerin e.V.\, Ziegeleiweg 9-11\, Schwerin\, Meckl
 enburg-Vorpommern\, 19057\, Deutschland
X-APPLE-STRUCTURED-LOCATION;VALUE=URI;X-ADDRESS=Ziegeleiweg 9-11\, Schwerin
 \, Mecklenburg-Vorpommern\, 19057\, Deutschland;X-APPLE-RADIUS=100;X-TITLE
 =Break In 1. BC Schwerin e.V.:geo:0,0
END:VEVENT
BEGIN:VTIMEZONE
TZID:Europe/Berlin
X-LIC-LOCATION:Europe/Berlin
BEGIN:DAYLIGHT
DTSTART:20260329T030000
TZOFFSETFROM:+0100
TZOFFSETTO:+0200
TZNAME:CEST
END:DAYLIGHT
END:VTIMEZONE
END:VCALENDAR